Package: AshkenazimSonChr21 Version: 1.41.0 Command: /home/biocbuild/bbs-3.23-bioc/R/bin/R CMD build --keep-empty-dirs --no-resave-data AshkenazimSonChr21 StartedAt: 2025-11-13 11:07:39 -0500 (Thu, 13 Nov 2025) EndedAt: 2025-11-13 11:08:04 -0500 (Thu, 13 Nov 2025) EllapsedTime: 24.5 seconds RetCode: 0 Status: OK PackageFile: AshkenazimSonChr21_1.41.0.tar.gz PackageFileSize: 9.756 MiB