Package: AshkenazimSonChr21 Version: 1.41.0 Maintainer: Who to complain to MaintainerEmail: tomasz.stokowy at k2.uib.no git_url: https://git.bioconductor.org/packages/AshkenazimSonChr21 git_branch: devel git_last_commit: acd2e3e git_last_commit_date: 2025-10-29 09:56:41 -0500 (Wed, 29 Oct 2025)