Package: Affyhgu133Plus2Expr Version: 1.45.0 Command: /home/biocbuild/bbs-3.23-bioc/R/bin/R CMD INSTALL Affyhgu133Plus2Expr StartedAt: 2025-11-13 10:55:39 -0500 (Thu, 13 Nov 2025) EndedAt: 2025-11-13 10:55:42 -0500 (Thu, 13 Nov 2025) EllapsedTime: 2.8 seconds RetCode: 0 Status: OK