Package: AWAggregatorData Version: 1.1.0 Command: /home/biocbuild/bbs-3.23-bioc/R/bin/R CMD INSTALL AWAggregatorData StartedAt: 2025-11-11 10:57:06 -0500 (Tue, 11 Nov 2025) EndedAt: 2025-11-11 10:57:18 -0500 (Tue, 11 Nov 2025) EllapsedTime: 12.8 seconds RetCode: 0 Status: OK