Package: AWAggregatorData Version: 1.1.0 Command: /home/biocbuild/bbs-3.23-bioc/R/bin/R CMD check --install=check:AWAggregatorData.install-out.txt --library=/home/biocbuild/bbs-3.23-bioc/R/site-library --timings AWAggregatorData_1.1.0.tar.gz StartedAt: 2025-11-11 12:01:59 -0500 (Tue, 11 Nov 2025) EndedAt: 2025-11-11 12:04:04 -0500 (Tue, 11 Nov 2025) EllapsedTime: 124.5 seconds RetCode: 0 Status: OK CheckDir: AWAggregatorData.Rcheck Warnings: 0