Package: ASICSdata Version: 1.31.0 Command: /home/biocbuild/bbs-3.23-bioc/R/bin/R CMD check --install=check:ASICSdata.install-out.txt --library=/home/biocbuild/bbs-3.23-bioc/R/site-library --timings ASICSdata_1.31.0.tar.gz StartedAt: 2025-11-13 12:02:30 -0500 (Thu, 13 Nov 2025) EndedAt: 2025-11-13 12:02:51 -0500 (Thu, 13 Nov 2025) EllapsedTime: 21.2 seconds RetCode: 0 Status: OK CheckDir: ASICSdata.Rcheck Warnings: 0