Package: ASICSdata Version: 1.31.0 Command: /home/biocbuild/bbs-3.23-bioc/R/bin/R CMD build --keep-empty-dirs --no-resave-data ASICSdata StartedAt: 2025-11-13 11:07:40 -0500 (Thu, 13 Nov 2025) EndedAt: 2025-11-13 11:07:56 -0500 (Thu, 13 Nov 2025) EllapsedTime: 16.4 seconds RetCode: 0 Status: OK PackageFile: ASICSdata_1.31.0.tar.gz PackageFileSize: 22.05 MiB