Package: ASICSdata Version: 1.31.0 Maintainer: Gaƫlle Lefort MaintainerEmail: gaelle.lefort at inra.fr git_url: https://git.bioconductor.org/packages/ASICSdata git_branch: devel git_last_commit: 49b46e5 git_last_commit_date: 2025-10-29 10:00:06 -0500 (Wed, 29 Oct 2025)