Package: ARRmData Version: 1.47.0 Maintainer: Jean-Philippe Fortin MaintainerEmail: jfortin at jhsph.edu git_url: https://git.bioconductor.org/packages/ARRmData git_branch: devel git_last_commit: 49b67b9 git_last_commit_date: 2025-10-29 09:52:55 -0500 (Wed, 29 Oct 2025)