Package: ALLMLL Version: 1.51.0 Command: /home/biocbuild/bbs-3.23-bioc/R/bin/R CMD INSTALL ALLMLL StartedAt: 2025-11-11 10:56:25 -0500 (Tue, 11 Nov 2025) EndedAt: 2025-11-11 10:56:33 -0500 (Tue, 11 Nov 2025) EllapsedTime: 7.5 seconds RetCode: 0 Status: OK