Package: ALLMLL Version: 1.51.0 Command: /home/biocbuild/bbs-3.23-bioc/R/bin/R CMD build --keep-empty-dirs --no-resave-data ALLMLL StartedAt: 2025-11-11 11:07:28 -0500 (Tue, 11 Nov 2025) EndedAt: 2025-11-11 11:07:34 -0500 (Tue, 11 Nov 2025) EllapsedTime: 5.9 seconds RetCode: 0 Status: OK PackageFile: ALLMLL_1.51.0.tar.gz PackageFileSize: 25.62 MiB