Package: ALL Version: 1.53.0 Command: /home/biocbuild/bbs-3.23-bioc/R/bin/R CMD INSTALL ALL StartedAt: 2025-11-11 10:56:19 -0500 (Tue, 11 Nov 2025) EndedAt: 2025-11-11 10:56:24 -0500 (Tue, 11 Nov 2025) EllapsedTime: 4.4 seconds RetCode: 0 Status: OK