Package: xcms Version: 4.9.0 Command: /home/rapidbuild/bbs-3.23-bioc-rapid/R/bin/R CMD INSTALL xcms StartedAt: 2025-11-15 06:25:47 -0500 (Sat, 15 Nov 2025) EndedAt: 2025-11-15 06:27:07 -0500 (Sat, 15 Nov 2025) EllapsedTime: 79.6 seconds RetCode: 0 Status: OK