Package: xcms Version: 4.9.0 Command: /home/rapidbuild/bbs-3.23-bioc-rapid/R/bin/R CMD build --keep-empty-dirs --no-resave-data xcms StartedAt: 2025-11-14 07:42:04 -0500 (Fri, 14 Nov 2025) EndedAt: 2025-11-14 07:46:05 -0500 (Fri, 14 Nov 2025) EllapsedTime: 241.0 seconds RetCode: 0 Status: OK PackageFile: xcms_4.9.0.tar.gz PackageFileSize: 9.136 MiB