Package: widgetTools Version: 1.89.0 Command: /home/rapidbuild/bbs-3.23-bioc-rapid/R/bin/R CMD INSTALL widgetTools StartedAt: 2025-11-15 06:11:43 -0500 (Sat, 15 Nov 2025) EndedAt: 2025-11-15 06:11:47 -0500 (Sat, 15 Nov 2025) EllapsedTime: 4.0 seconds RetCode: 0 Status: OK