Package: widgetTools Version: 1.89.0 Command: /home/rapidbuild/bbs-3.23-bioc-rapid/R/bin/R CMD build --keep-empty-dirs --no-resave-data widgetTools StartedAt: 2025-11-14 07:41:56 -0500 (Fri, 14 Nov 2025) EndedAt: 2025-11-14 07:42:04 -0500 (Fri, 14 Nov 2025) EllapsedTime: 7.4 seconds RetCode: 0 Status: OK PackageFile: widgetTools_1.89.0.tar.gz PackageFileSize: 227.9 KiB