Package: treeio Version: 1.35.0 Command: /home/rapidbuild/bbs-3.23-bioc-rapid/R/bin/R CMD INSTALL treeio StartedAt: 2025-11-15 06:21:55 -0500 (Sat, 15 Nov 2025) EndedAt: 2025-11-15 06:22:00 -0500 (Sat, 15 Nov 2025) EllapsedTime: 5.0 seconds RetCode: 0 Status: OK