Package: treeio Version: 1.35.0 Command: /home/rapidbuild/bbs-3.23-bioc-rapid/R/bin/R CMD build --keep-empty-dirs --no-resave-data treeio StartedAt: 2025-11-15 07:37:00 -0500 (Sat, 15 Nov 2025) EndedAt: 2025-11-15 07:37:07 -0500 (Sat, 15 Nov 2025) EllapsedTime: 7.0 seconds RetCode: 0 Status: OK PackageFile: treeio_1.35.0.tar.gz PackageFileSize: 678.7 KiB