Package: sparseMatrixStats Version: 1.23.0 Command: /home/rapidbuild/bbs-3.23-bioc-rapid/R/bin/R CMD check --install=check:sparseMatrixStats.install-out.txt --library=/home/rapidbuild/bbs-3.23-bioc-rapid/R/site-library --timings sparseMatrixStats_1.23.0.tar.gz StartedAt: 2025-11-15 09:38:21 -0500 (Sat, 15 Nov 2025) EndedAt: 2025-11-15 09:39:08 -0500 (Sat, 15 Nov 2025) EllapsedTime: 46.6 seconds RetCode: 0 Status: OK CheckDir: sparseMatrixStats.Rcheck Warnings: 0