Package: sparseMatrixStats Version: 1.23.0 Command: /home/rapidbuild/bbs-3.23-bioc-rapid/R/bin/R CMD build --keep-empty-dirs --no-resave-data sparseMatrixStats StartedAt: 2025-11-15 07:34:42 -0500 (Sat, 15 Nov 2025) EndedAt: 2025-11-15 07:35:09 -0500 (Sat, 15 Nov 2025) EllapsedTime: 27.0 seconds RetCode: 0 Status: OK PackageFile: sparseMatrixStats_1.23.0.tar.gz PackageFileSize: 687.7 KiB