Package: scuttle Version: 1.21.0 Command: /home/rapidbuild/bbs-3.23-bioc-rapid/R/bin/R CMD INSTALL scuttle StartedAt: 2025-11-14 06:20:07 -0500 (Fri, 14 Nov 2025) EndedAt: 2025-11-14 06:21:05 -0500 (Fri, 14 Nov 2025) EllapsedTime: 58.1 seconds RetCode: 0 Status: OK