Package: scuttle Version: 1.21.0 Command: /home/rapidbuild/bbs-3.23-bioc-rapid/R/bin/R CMD build --keep-empty-dirs --no-resave-data scuttle StartedAt: 2025-11-15 07:30:14 -0500 (Sat, 15 Nov 2025) EndedAt: 2025-11-15 07:32:33 -0500 (Sat, 15 Nov 2025) EllapsedTime: 138.9 seconds RetCode: 0 Status: OK PackageFile: scuttle_1.21.0.tar.gz PackageFileSize: 1007 KiB