Package: scran Version: 1.39.0 Command: /home/rapidbuild/bbs-3.23-bioc-rapid/R/bin/R CMD INSTALL scran StartedAt: 2025-11-14 06:22:05 -0500 (Fri, 14 Nov 2025) EndedAt: 2025-11-14 06:23:05 -0500 (Fri, 14 Nov 2025) EllapsedTime: 60.0 seconds RetCode: 0 Status: OK