Package: scran Version: 1.39.0 Command: /home/rapidbuild/bbs-3.23-bioc-rapid/R/bin/R CMD build --keep-empty-dirs --no-resave-data scran StartedAt: 2025-11-14 07:29:20 -0500 (Fri, 14 Nov 2025) EndedAt: 2025-11-14 07:32:10 -0500 (Fri, 14 Nov 2025) EllapsedTime: 170.6 seconds RetCode: 0 Status: OK PackageFile: scran_1.39.0.tar.gz PackageFileSize: 1.743 MiB