Package: preprocessCore Version: 1.73.0 Command: /home/rapidbuild/bbs-3.23-bioc-rapid/R/bin/R CMD INSTALL preprocessCore StartedAt: 2025-11-14 06:08:04 -0500 (Fri, 14 Nov 2025) EndedAt: 2025-11-14 06:08:13 -0500 (Fri, 14 Nov 2025) EllapsedTime: 9.0 seconds RetCode: 0 Status: OK