Package: preprocessCore Version: 1.73.0 Command: /home/rapidbuild/bbs-3.23-bioc-rapid/R/bin/R CMD build --keep-empty-dirs --no-resave-data preprocessCore StartedAt: 2025-11-14 07:19:02 -0500 (Fri, 14 Nov 2025) EndedAt: 2025-11-14 07:19:03 -0500 (Fri, 14 Nov 2025) EllapsedTime: 1.0 seconds RetCode: 0 Status: OK PackageFile: preprocessCore_1.73.0.tar.gz PackageFileSize: 124.8 KiB