Package: pcaMethods Version: 2.3.0 Command: /home/rapidbuild/bbs-3.23-bioc-rapid/R/bin/R CMD INSTALL pcaMethods StartedAt: 2025-11-15 06:09:24 -0500 (Sat, 15 Nov 2025) EndedAt: 2025-11-15 06:09:34 -0500 (Sat, 15 Nov 2025) EllapsedTime: 10.2 seconds RetCode: 0 Status: OK