Package: pcaMethods Version: 2.3.0 Command: /home/rapidbuild/bbs-3.23-bioc-rapid/R/bin/R CMD build --keep-empty-dirs --no-resave-data pcaMethods StartedAt: 2025-11-15 07:17:14 -0500 (Sat, 15 Nov 2025) EndedAt: 2025-11-15 07:18:28 -0500 (Sat, 15 Nov 2025) EllapsedTime: 73.9 seconds RetCode: 0 Status: OK PackageFile: pcaMethods_2.3.0.tar.gz PackageFileSize: 1017 KiB