Package: ncdfFlow Version: 2.57.0 Command: /home/rapidbuild/bbs-3.23-bioc-rapid/R/bin/R CMD INSTALL ncdfFlow StartedAt: 2025-11-23 06:11:11 -0500 (Sun, 23 Nov 2025) EndedAt: 2025-11-23 06:11:21 -0500 (Sun, 23 Nov 2025) EllapsedTime: 10.2 seconds RetCode: 0 Status: OK