Package: ncdfFlow Version: 2.57.0 Command: /home/rapidbuild/bbs-3.23-bioc-rapid/R/bin/R CMD build --keep-empty-dirs --no-resave-data ncdfFlow StartedAt: 2025-11-23 07:14:47 -0500 (Sun, 23 Nov 2025) EndedAt: 2025-11-23 07:15:07 -0500 (Sun, 23 Nov 2025) EllapsedTime: 20.3 seconds RetCode: 0 Status: OK PackageFile: ncdfFlow_2.57.0.tar.gz PackageFileSize: 198.6 KiB