Package: interactiveDisplayBase Version: 1.49.0 Command: /home/rapidbuild/bbs-3.23-bioc-rapid/R/bin/R CMD INSTALL interactiveDisplayBase StartedAt: 2025-11-15 06:14:08 -0500 (Sat, 15 Nov 2025) EndedAt: 2025-11-15 06:14:12 -0500 (Sat, 15 Nov 2025) EllapsedTime: 3.2 seconds RetCode: 0 Status: OK