Package: interactiveDisplayBase Version: 1.49.0 Command: /home/rapidbuild/bbs-3.23-bioc-rapid/R/bin/R CMD check --install=check:interactiveDisplayBase.install-out.txt --library=/home/rapidbuild/bbs-3.23-bioc-rapid/R/site-library --timings interactiveDisplayBase_1.49.0.tar.gz StartedAt: 2025-11-15 08:56:28 -0500 (Sat, 15 Nov 2025) EndedAt: 2025-11-15 08:56:51 -0500 (Sat, 15 Nov 2025) EllapsedTime: 22.6 seconds RetCode: 0 Status: OK CheckDir: interactiveDisplayBase.Rcheck Warnings: 0