Package: interactiveDisplayBase Version: 1.49.0 Command: /home/rapidbuild/bbs-3.23-bioc-rapid/R/bin/R CMD build --keep-empty-dirs --no-resave-data interactiveDisplayBase StartedAt: 2025-11-15 07:06:18 -0500 (Sat, 15 Nov 2025) EndedAt: 2025-11-15 07:06:23 -0500 (Sat, 15 Nov 2025) EllapsedTime: 5.3 seconds RetCode: 0 Status: OK PackageFile: interactiveDisplayBase_1.49.0.tar.gz PackageFileSize: 8.082 KiB