Package: interactiveDisplay Version: 1.49.0 Command: /home/rapidbuild/bbs-3.23-bioc-rapid/R/bin/R CMD INSTALL interactiveDisplay StartedAt: 2025-11-15 06:17:40 -0500 (Sat, 15 Nov 2025) EndedAt: 2025-11-15 06:18:01 -0500 (Sat, 15 Nov 2025) EllapsedTime: 20.4 seconds RetCode: 0 Status: OK