Package: interactiveDisplay Version: 1.49.0 Command: /home/rapidbuild/bbs-3.23-bioc-rapid/R/bin/R CMD build --keep-empty-dirs --no-resave-data interactiveDisplay StartedAt: 2025-11-15 07:05:39 -0500 (Sat, 15 Nov 2025) EndedAt: 2025-11-15 07:06:23 -0500 (Sat, 15 Nov 2025) EllapsedTime: 43.3 seconds RetCode: 0 Status: OK PackageFile: interactiveDisplay_1.49.0.tar.gz PackageFileSize: 4.562 MiB