Package: gpls Version: 1.83.0 Command: /home/rapidbuild/bbs-3.23-bioc-rapid/R/bin/R CMD INSTALL gpls StartedAt: 2025-11-14 06:07:18 -0500 (Fri, 14 Nov 2025) EndedAt: 2025-11-14 06:07:20 -0500 (Fri, 14 Nov 2025) EllapsedTime: 2.0 seconds RetCode: 0 Status: OK