Package: gpls Version: 1.83.0 Command: /home/rapidbuild/bbs-3.23-bioc-rapid/R/bin/R CMD build --keep-empty-dirs --no-resave-data gpls StartedAt: 2025-11-14 06:58:52 -0500 (Fri, 14 Nov 2025) EndedAt: 2025-11-14 06:58:59 -0500 (Fri, 14 Nov 2025) EllapsedTime: 7.0 seconds RetCode: 0 Status: OK PackageFile: gpls_1.83.0.tar.gz PackageFileSize: 233.2 KiB