Package: ggtree Version: 4.1.1 Command: /home/rapidbuild/bbs-3.23-bioc-rapid/R/bin/R CMD INSTALL ggtree StartedAt: 2025-11-14 06:25:09 -0500 (Fri, 14 Nov 2025) EndedAt: 2025-11-14 06:25:17 -0500 (Fri, 14 Nov 2025) EllapsedTime: 8.6 seconds RetCode: 0 Status: OK