Package: ggtree Version: 4.1.1 Command: /home/rapidbuild/bbs-3.23-bioc-rapid/R/bin/R CMD build --keep-empty-dirs --no-resave-data ggtree StartedAt: 2025-11-14 06:57:44 -0500 (Fri, 14 Nov 2025) EndedAt: 2025-11-14 06:57:56 -0500 (Fri, 14 Nov 2025) EllapsedTime: 12.0 seconds RetCode: 0 Status: OK PackageFile: ggtree_4.1.1.tar.gz PackageFileSize: 355.9 KiB