Package: flowWorkspace Version: 4.23.0 Command: /home/rapidbuild/bbs-3.23-bioc-rapid/R/bin/R CMD INSTALL flowWorkspace StartedAt: 2025-11-15 06:22:08 -0500 (Sat, 15 Nov 2025) EndedAt: 2025-11-15 06:23:58 -0500 (Sat, 15 Nov 2025) EllapsedTime: 110.3 seconds RetCode: 0 Status: OK