Package: flowWorkspace Version: 4.23.0 Command: /home/rapidbuild/bbs-3.23-bioc-rapid/R/bin/R CMD build --keep-empty-dirs --no-resave-data flowWorkspace StartedAt: 2025-11-14 06:52:59 -0500 (Fri, 14 Nov 2025) EndedAt: 2025-11-14 06:55:16 -0500 (Fri, 14 Nov 2025) EllapsedTime: 136.7 seconds RetCode: 0 Status: OK PackageFile: flowWorkspace_4.23.0.tar.gz PackageFileSize: 5.079 MiB