Package: flowCore Version: 2.23.0 Command: /home/rapidbuild/bbs-3.23-bioc-rapid/R/bin/R CMD build --keep-empty-dirs --no-resave-data flowCore StartedAt: 2025-11-14 06:51:21 -0500 (Fri, 14 Nov 2025) EndedAt: 2025-11-14 06:52:22 -0500 (Fri, 14 Nov 2025) EllapsedTime: 61.3 seconds RetCode: 0 Status: OK PackageFile: flowCore_2.23.0.tar.gz PackageFileSize: 7.452 MiB