Package: ensembldb Version: 2.35.0 Command: /home/rapidbuild/bbs-3.23-bioc-rapid/R/bin/R CMD INSTALL ensembldb StartedAt: 2025-11-15 06:25:53 -0500 (Sat, 15 Nov 2025) EndedAt: 2025-11-15 06:26:28 -0500 (Sat, 15 Nov 2025) EllapsedTime: 34.8 seconds RetCode: 0 Status: OK