Package: ensembldb Version: 2.35.0 Command: /home/rapidbuild/bbs-3.23-bioc-rapid/R/bin/R CMD build --keep-empty-dirs --no-resave-data ensembldb StartedAt: 2025-11-14 06:46:47 -0500 (Fri, 14 Nov 2025) EndedAt: 2025-11-14 06:48:20 -0500 (Fri, 14 Nov 2025) EllapsedTime: 92.6 seconds RetCode: 0 Status: OK PackageFile: ensembldb_2.35.0.tar.gz PackageFileSize: 3.369 MiB