Package: enrichplot Version: 1.31.0 Command: /home/rapidbuild/bbs-3.23-bioc-rapid/R/bin/R CMD INSTALL enrichplot StartedAt: 2025-11-15 06:22:09 -0500 (Sat, 15 Nov 2025) EndedAt: 2025-11-15 06:22:30 -0500 (Sat, 15 Nov 2025) EllapsedTime: 20.4 seconds RetCode: 0 Status: OK