Package: enrichplot Version: 1.31.0 Command: /home/rapidbuild/bbs-3.23-bioc-rapid/R/bin/R CMD build --keep-empty-dirs --no-resave-data enrichplot StartedAt: 2025-11-16 06:45:35 -0500 (Sun, 16 Nov 2025) EndedAt: 2025-11-16 06:45:56 -0500 (Sun, 16 Nov 2025) EllapsedTime: 21.0 seconds RetCode: 0 Status: OK PackageFile: enrichplot_1.31.0.tar.gz PackageFileSize: 96.48 KiB