Package: csaw Version: 1.45.0 Maintainer: Aaron Lun MaintainerEmail: infinite.monkeys.with.keyboards at gmail.com git_url: https://git.bioconductor.org/packages/csaw git_branch: devel git_last_commit: 39b0f81 git_last_commit_date: 2025-10-29 10:22:22 -0500 (Wed, 29 Oct 2025)