Package: clusterProfiler Version: 4.19.1 Command: /home/rapidbuild/bbs-3.23-bioc-rapid/R/bin/R CMD INSTALL clusterProfiler StartedAt: 2025-11-14 06:28:46 -0500 (Fri, 14 Nov 2025) EndedAt: 2025-11-14 06:29:06 -0500 (Fri, 14 Nov 2025) EllapsedTime: 19.7 seconds RetCode: 0 Status: OK