Package: clusterProfiler Version: 4.19.1 Command: /home/rapidbuild/bbs-3.23-bioc-rapid/R/bin/R CMD build --keep-empty-dirs --no-resave-data clusterProfiler StartedAt: 2025-11-14 06:39:46 -0500 (Fri, 14 Nov 2025) EndedAt: 2025-11-14 06:40:07 -0500 (Fri, 14 Nov 2025) EllapsedTime: 21.9 seconds RetCode: 0 Status: OK PackageFile: clusterProfiler_4.19.1.tar.gz PackageFileSize: 611.2 KiB