Package: biocmake Version: 1.3.1 Maintainer: Aaron Lun MaintainerEmail: infinite.monkeys.with.keyboards at gmail.com git_url: https://git.bioconductor.org/packages/biocmake git_branch: devel git_last_commit: db9e091 git_last_commit_date: 2025-11-21 19:41:01 -0500 (Fri, 21 Nov 2025)